BEGIN:VCALENDAR
VERSION:2.0
PRODID:-//Barker Real Estate Gawler/EPL//NONSGML v1.0//EN
METHOD:PUBLISH
BEGIN:VEVENT
DTSTART:20210220T100000
DTEND:20210220T103000
LOCATION:27 Nicholls Crescent BURTON, SA 5110
URL:https://barkerrealestate.com.au/property/27-nicholls-crescent-burton-sa-5110/
TRANSP:OPAQUE
SEQUENCE:0
UID:250571614120910
DTSTAMP:20210223T122510Z
SUMMARY:Home Open - Terrific, neat, and tidy three-bedroom home with an eye-catching pool area!
DESCRIPTION:An ideal opportunity presents itself with this 1987 built three-bedroom home ideal for first home buyers\, investors or anyone looking to break into the market! Located on a good size 570sqm allotment consisting of three bedrooms\, one-bathroom\, multiple living spaces\, and a terrific outdoor entertaining area with an inground gorgeous pool area! \n\nFeatures throughout \n- Three good size bedrooms all fitted with built in wardrobes \n- Ducted evaporative cooling throughout the whole home \n- Ducted gas heating throughout the whole home \n- Good size L-shape lounge area \n- Kitchen neat and tidy with gas cooktop\, oven\, walk in pantry and plenty of cupboard space \n- Additional second living/dine area adjacent to the kitchen \n- laundry with access door outside\n- Terrific spacious outdoor entertaining area with verandah and fully concreted \n- Inbuilt BBQ area with natural gas connection\n- Inground concrete swimming pool (salt water chlorinated) all new filter and chlorinator \n- Solar power connected \n- Shed with concreted floor\, lights installed and power available \n- Single carport with (new) auto roller door but room for multiple cars \n- Mains gas connected \n- Gas instantaneous hot water system \n- Cat run along the side of the home\n\nContact Brodie Barker for any additional information required. \n\nCT - 5356/284 \nCouncil Rates - $1330.40 (financial year 20/21) \nYear Built - 1987 \nLand Size - 570 sqm
PRIORITY:1
CLASS:PUBLIC
BEGIN:VALARM
TRIGGER:-PT10080M
ACTION:DISPLAY
DESCRIPTION:Reminder
END:VALARM
END:VEVENT
END:VCALENDAR
